BEGIN:VCALENDAR
VERSION:2.0
PRODID:-//IAB Switzerland Association - ECPv6.15.20//NONSGML v1.0//EN
CALSCALE:GREGORIAN
METHOD:PUBLISH
X-ORIGINAL-URL:https://www.iab-switzerland.ch
X-WR-CALDESC:Veranstaltungen für IAB Switzerland Association
REFRESH-INTERVAL;VALUE=DURATION:PT1H
X-Robots-Tag:noindex
X-PUBLISHED-TTL:PT1H
BEGIN:VTIMEZONE
TZID:Europe/Zurich
BEGIN:DAYLIGHT
TZOFFSETFROM:+0100
TZOFFSETTO:+0200
TZNAME:CEST
DTSTART:20250330T010000
END:DAYLIGHT
BEGIN:STANDARD
TZOFFSETFROM:+0200
TZOFFSETTO:+0100
TZNAME:CET
DTSTART:20251026T010000
END:STANDARD
BEGIN:DAYLIGHT
TZOFFSETFROM:+0100
TZOFFSETTO:+0200
TZNAME:CEST
DTSTART:20260329T010000
END:DAYLIGHT
BEGIN:STANDARD
TZOFFSETFROM:+0200
TZOFFSETTO:+0100
TZNAME:CET
DTSTART:20261025T010000
END:STANDARD
BEGIN:DAYLIGHT
TZOFFSETFROM:+0100
TZOFFSETTO:+0200
TZNAME:CEST
DTSTART:20270328T010000
END:DAYLIGHT
BEGIN:STANDARD
TZOFFSETFROM:+0200
TZOFFSETTO:+0100
TZNAME:CET
DTSTART:20271031T010000
END:STANDARD
END:VTIMEZONE
BEGIN:VEVENT
DTSTART;TZID=Europe/Zurich:20260305T090000
DTEND;TZID=Europe/Zurich:20260305T133000
DTSTAMP:20260422T120601
CREATED:20260107T105200Z
LAST-MODIFIED:20260223T142857Z
UID:74500-1772701200-1772717400@www.iab-switzerland.ch
SUMMARY:DOOH Day 2026 – AUSVERKAUFT!
DESCRIPTION:Programmatic\, Werbefreiheit\, Retail-DOOH & Plakatforschung: Das Branchen-Update des Jahres! \nDer kompakte Vormittags-Event bündelt die wichtigsten Entwicklungen in Programmatic und DOOH\, aktuellen Marktzahlen\, Innovationen und neuen Forschungserkenntnissen. Es folgen praxisnahe Best Practices\, Updates zu Werbefreiheit im (D)OOH\, einr Retail Media DOOH Overview und kurze Elevator Pitches  zu neuen Retail-DOOH-Lösungen. Branchenexpert:innen geben ein umfassendes Forschungs-Update zur Plakatforschung und eine Einordnung der Verbände. Das Podium liefert abschliessend einen Ausblick auf die nächsten Schritte. Abgerundet wird der Event mit einem Stehlunch – ideal zum Vernetzen\, Nachfragen und Vertiefen der Themen. \nEin Vormittag. Maximale Relevanz. Volle Update-Power für DOOH. Zum Programm gehts hier \nEVENT AUSVERKAUFT! Es sind leider keine Tickets mehr verfügbar.
URL:https://www.iab-switzerland.ch/event/dooh-day-2026/
LOCATION:Restaurant Razzia\, Seefeldstrasse 82\, Zürich\, 8008\, Switzerland
ATTACH;FMTTYPE=image/png:https://www.iab-switzerland.ch/wp-content/uploads/2026/01/DOOH-DAY-26-Logo.png
END:VEVENT
END:VCALENDAR