BEGIN:VCALENDAR
VERSION:2.0
PRODID:-//IAB Switzerland Association - ECPv6.15.20//NONSGML v1.0//EN
CALSCALE:GREGORIAN
METHOD:PUBLISH
X-ORIGINAL-URL:https://www.iab-switzerland.ch
X-WR-CALDESC:Veranstaltungen für IAB Switzerland Association
REFRESH-INTERVAL;VALUE=DURATION:PT1H
X-Robots-Tag:noindex
X-PUBLISHED-TTL:PT1H
BEGIN:VTIMEZONE
TZID:Europe/Zurich
BEGIN:DAYLIGHT
TZOFFSETFROM:+0100
TZOFFSETTO:+0200
TZNAME:CEST
DTSTART:20250330T010000
END:DAYLIGHT
BEGIN:STANDARD
TZOFFSETFROM:+0200
TZOFFSETTO:+0100
TZNAME:CET
DTSTART:20251026T010000
END:STANDARD
BEGIN:DAYLIGHT
TZOFFSETFROM:+0100
TZOFFSETTO:+0200
TZNAME:CEST
DTSTART:20260329T010000
END:DAYLIGHT
BEGIN:STANDARD
TZOFFSETFROM:+0200
TZOFFSETTO:+0100
TZNAME:CET
DTSTART:20261025T010000
END:STANDARD
BEGIN:DAYLIGHT
TZOFFSETFROM:+0100
TZOFFSETTO:+0200
TZNAME:CEST
DTSTART:20270328T010000
END:DAYLIGHT
BEGIN:STANDARD
TZOFFSETFROM:+0200
TZOFFSETTO:+0100
TZNAME:CET
DTSTART:20271031T010000
END:STANDARD
END:VTIMEZONE
BEGIN:VEVENT
DTSTART;VALUE=DATE:20260423
DTEND;VALUE=DATE:20260424
DTSTAMP:20260422T102937
CREATED:20260228T160553Z
LAST-MODIFIED:20260308T190717Z
UID:74631-1776902400-1776988799@www.iab-switzerland.ch
SUMMARY:GACon 2026 – Das Fachevent für Analytics\, Tracking & Measurement
DESCRIPTION:Die Google Analytics Conference (GACon) ist der zentrale Treffpunkt für die Digital-Analytics-Community im DACH-Raum. Am 23. April 2026 versammeln sich im Apothekertrakt des Schloss Schönbrunn über 200 Teilnehmende\, um tiefgehende Einblicke in moderne Tracking-Strategien\, KI-gestützte Analyseprozesse und zukunftssichere Measurement-Setups zu gewinnen. \nBesucher*innen erwarten über 30 internationale Speaker*innen\, darunter Top-Expert*innen von Google aus den USA und Deutschland. In zwei parallelen Tracks werden Themen wie Marketing Mix Modeling\, Geo-Experimente und privacy-konformes Tracking praxisnah behandelt – ganz ohne oberflächliche Buzzwords. \nHighlights: \n\nInternationale Google Keynotes (u.a. aus New York & Mountain View)\nExklusive Insights in KI-Funktionen\nNetworking-Möglichkeiten mit führenden Köpfen der Branche\nErgänzende Online-Trainings im Vorfeld der Konferenz\n\nDer Vorverkauf für die GACon 2026 hat begonnen. Während das Programm und die Vortragenden Stück für Stück angekündigt werden\, erhalten IAB-Mitglieder 20% Rabatt auf Conference Day-Tickets. Hol dir jetzt dein Ticket! \nGACon Conference Day-Ticket sichern mit 20% Rabatt!
URL:https://www.iab-switzerland.ch/event/gacon-2026-das-fachevent-fuer-analytics-tracking-measurement/
LOCATION:Schloss Schönbrunn\, Schönbrunner Schlossstraße 47\, Wien\, 1130\, Austria
ATTACH;FMTTYPE=image/jpeg:https://www.iab-switzerland.ch/wp-content/uploads/2026/02/GACon-2026.jpg
END:VEVENT
END:VCALENDAR