BEGIN:VCALENDAR
VERSION:2.0
PRODID:-//IAB Switzerland Association - ECPv6.15.20//NONSGML v1.0//EN
CALSCALE:GREGORIAN
METHOD:PUBLISH
X-WR-CALNAME:IAB Switzerland Association
X-ORIGINAL-URL:https://www.iab-switzerland.ch
X-WR-CALDESC:Veranstaltungen für IAB Switzerland Association
REFRESH-INTERVAL;VALUE=DURATION:PT1H
X-Robots-Tag:noindex
X-PUBLISHED-TTL:PT1H
BEGIN:VTIMEZONE
TZID:Europe/Zurich
BEGIN:DAYLIGHT
TZOFFSETFROM:+0100
TZOFFSETTO:+0200
TZNAME:CEST
DTSTART:20240331T010000
END:DAYLIGHT
BEGIN:STANDARD
TZOFFSETFROM:+0200
TZOFFSETTO:+0100
TZNAME:CET
DTSTART:20241027T010000
END:STANDARD
BEGIN:DAYLIGHT
TZOFFSETFROM:+0100
TZOFFSETTO:+0200
TZNAME:CEST
DTSTART:20250330T010000
END:DAYLIGHT
BEGIN:STANDARD
TZOFFSETFROM:+0200
TZOFFSETTO:+0100
TZNAME:CET
DTSTART:20251026T010000
END:STANDARD
BEGIN:DAYLIGHT
TZOFFSETFROM:+0100
TZOFFSETTO:+0200
TZNAME:CEST
DTSTART:20260329T010000
END:DAYLIGHT
BEGIN:STANDARD
TZOFFSETFROM:+0200
TZOFFSETTO:+0100
TZNAME:CET
DTSTART:20261025T010000
END:STANDARD
END:VTIMEZONE
BEGIN:VEVENT
DTSTART;TZID=Europe/Zurich:20250902T090000
DTEND;TZID=Europe/Zurich:20250902T170000
DTSTAMP:20260421T231435
CREATED:20250802T070052Z
LAST-MODIFIED:20250805T070503Z
UID:69360-1756803600-1756832400@www.iab-switzerland.ch
SUMMARY:RMD25 Retail Media Day
DESCRIPTION:Am Dienstag\, 2. September 2025 findet der erste Schweizer Retail Media Day im Razzia Zürich statt. Die Konferenz bietet anregende Diskussionen und Gelegenheit\, mit führenden Expertinnen und Experten der Branche in Kontakt zu treten. Gemeinsam erkunden wir Trends und gewinnen Einblicke\, wie sich Werbetreibende\, Handel und Dienstleister aufstellen\, um das volle Potenzial der Retail Media für Ihre Marketingziele zu nutzen. Sie wird von der IAB Switzerland veranstaltet. Mehr Informationen und Tickets \n\nSichern Sie sich jetzt Ihr RMD25-Ticket! \n\nRMD25 TICKET SICHERN
URL:https://www.iab-switzerland.ch/event/rmd25-retail-media-day/
LOCATION:Restaurant Razzia\, Seefeldstrasse 82\, Zürich\, 8008\, Switzerland
CATEGORIES:Konferenzen & Messen,RMD Retail Media Day
ATTACH;FMTTYPE=image/jpeg:https://www.iab-switzerland.ch/wp-content/uploads/2025/09/RMD25-Logo-wide-black-RGB-e1754393782676.jpg
ORGANIZER;CN="IAB Switzerland Association":MAILTO:ausbildung@iab-switzerland.ch
END:VEVENT
END:VCALENDAR