BEGIN:VCALENDAR
VERSION:2.0
PRODID:-//IAB Switzerland Association - ECPv6.15.20//NONSGML v1.0//EN
CALSCALE:GREGORIAN
METHOD:PUBLISH
X-ORIGINAL-URL:https://www.iab-switzerland.ch
X-WR-CALDESC:Veranstaltungen für IAB Switzerland Association
REFRESH-INTERVAL;VALUE=DURATION:PT1H
X-Robots-Tag:noindex
X-PUBLISHED-TTL:PT1H
BEGIN:VTIMEZONE
TZID:Europe/Zurich
BEGIN:DAYLIGHT
TZOFFSETFROM:+0100
TZOFFSETTO:+0200
TZNAME:CEST
DTSTART:20250330T010000
END:DAYLIGHT
BEGIN:STANDARD
TZOFFSETFROM:+0200
TZOFFSETTO:+0100
TZNAME:CET
DTSTART:20251026T010000
END:STANDARD
BEGIN:DAYLIGHT
TZOFFSETFROM:+0100
TZOFFSETTO:+0200
TZNAME:CEST
DTSTART:20260329T010000
END:DAYLIGHT
BEGIN:STANDARD
TZOFFSETFROM:+0200
TZOFFSETTO:+0100
TZNAME:CET
DTSTART:20261025T010000
END:STANDARD
BEGIN:DAYLIGHT
TZOFFSETFROM:+0100
TZOFFSETTO:+0200
TZNAME:CEST
DTSTART:20270328T010000
END:DAYLIGHT
BEGIN:STANDARD
TZOFFSETFROM:+0200
TZOFFSETTO:+0100
TZNAME:CET
DTSTART:20271031T010000
END:STANDARD
END:VTIMEZONE
BEGIN:VEVENT
DTSTART;TZID=Europe/Zurich:20260901T090000
DTEND;TZID=Europe/Zurich:20260901T170000
DTSTAMP:20260422T010418
CREATED:20260319T093917Z
LAST-MODIFIED:20260319T094422Z
UID:74703-1788253200-1788282000@www.iab-switzerland.ch
SUMMARY:RMD26 Retail Media Day
DESCRIPTION:Am Dienstag\, 1. September 2026 findet der zweite Schweizer Retail Media Day statt. Die Konferenz bietet anregende Diskussionen und Gelegenheit\, mit führenden Expertinnen und Experten der Branche in Kontakt zu treten. Gemeinsam erkunden wir Trends und gewinnen Einblicke\, wie sich Werbetreibende\, Handel und Dienstleister aufstellen\, um das volle Potenzial der Retail Media für Ihre Marketingziele zu nutzen. Sie wird von der IAB Switzerland veranstaltet. \nMehr Informationen zu Programm und Tickets folgen. \n\nSichern Sie sich jetzt Ihr RMD26-Ticket! \n\nRMD26 TICKET SICHERN
URL:https://www.iab-switzerland.ch/event/rmd26-retail-media-day/
CATEGORIES:Konferenzen & Messen,RMD Retail Media Day
ATTACH;FMTTYPE=image/jpeg:https://www.iab-switzerland.ch/wp-content/uploads/2026/03/RMD26-Logo-wide-neg-RGB-800.jpg
ORGANIZER;CN="IAB Switzerland Association":MAILTO:ausbildung@iab-switzerland.ch
END:VEVENT
END:VCALENDAR